{
 "currentVersion": 11.1,
 "serviceDescription": "NybroDTM",
 "name": "NybroDTM",
 "description": "",
 "extent": {
  "xmin": 90241.43484378968,
  "ymin": 6273963.970861062,
  "xmax": 133982.10032512064,
  "ymax": 6330033.821000762,
  "spatialReference": {
   "wkid": 3010,
   "latestWkid": 3010,
   "vcsWkid": 105702,
   "latestVcsWkid": 5613
  }
 },
 "initialExtent": {
  "xmin": 90241.43484378968,
  "ymin": 6273963.970861062,
  "xmax": 133982.10032512064,
  "ymax": 6330033.821000762,
  "spatialReference": {
   "wkid": 3010,
   "latestWkid": 3010,
   "vcsWkid": 105702,
   "latestVcsWkid": 5613
  }
 },
 "fullExtent": {
  "xmin": 90241.43484378968,
  "ymin": 6273963.970861062,
  "xmax": 133982.10032512064,
  "ymax": 6330033.821000762,
  "spatialReference": {
   "wkid": 3010,
   "latestWkid": 3010,
   "vcsWkid": 105702,
   "latestVcsWkid": 5613
  }
 },
 "sortableFields": "",
 "heightModelInfo": {
  "heightModel": "gravity_related_height",
  "vertCRS": "RH2000",
  "heightUnit": "meter"
 },
 "bandCount": 1,
 "pixelType": "F32",
 "minValues": [
  38.16999816894531
 ],
 "maxValues": [
  238.39999389648438
 ],
 "meanValues": [
  114.73413557012199
 ],
 "stdvValues": [
  39.437258336521865
 ],
 "spatialReference": {
  "wkid": 3010,
  "latestWkid": 3010,
  "vcsWkid": 105702,
  "latestVcsWkid": 5613
 },
 "singleFusedMapCache": true,
 "tileInfo": {
  "rows": 512,
  "cols": 512,
  "dpi": 96,
  "format": "LERC",
  "compressionQuality": 0,
  "lercError": 0.1,
  "origin": {
   "x": 85819.54,
   "y": 6330533.44
  },
  "spatialReference": {
   "wkid": 3010,
   "latestWkid": 3010,
   "vcsWkid": 105702,
   "latestVcsWkid": 5613
  },
  "lods": [
   {
    "level": 0,
    "resolution": 130.0482600965202,
    "scale": 491520
   },
   {
    "level": 1,
    "resolution": 65.0241300482601,
    "scale": 245760
   },
   {
    "level": 2,
    "resolution": 32.51206502413005,
    "scale": 122880
   },
   {
    "level": 3,
    "resolution": 16.256032512065026,
    "scale": 61440
   },
   {
    "level": 4,
    "resolution": 8.128016256032513,
    "scale": 30720
   },
   {
    "level": 5,
    "resolution": 4.0640081280162565,
    "scale": 15360
   },
   {
    "level": 6,
    "resolution": 2.0320040640081283,
    "scale": 7680
   },
   {
    "level": 7,
    "resolution": 1.0160020320040641,
    "scale": 3840
   },
   {
    "level": 8,
    "resolution": 0.5080010160020321,
    "scale": 1920
   },
   {
    "level": 9,
    "resolution": 0.25400050800101603,
    "scale": 960
   },
   {
    "level": 10,
    "resolution": 0.12700025400050802,
    "scale": 480
   },
   {
    "level": 11,
    "resolution": 0.06350012700025401,
    "scale": 240
   },
   {
    "level": 12,
    "resolution": 0.031750063500127004,
    "scale": 120
   },
   {
    "level": 13,
    "resolution": 0.015875031750063502,
    "scale": 60
   },
   {
    "level": 14,
    "resolution": 0.007937515875031751,
    "scale": 30
   }
  ],
  "storageFormat": "esriMapCacheStorageModeCompact"
 },
 "cacheType": "Elevation",
 "exportTilesAllowed": false,
 "minScale": 491520,
 "maxScale": 960,
 "capabilities": "Image,TilesOnly,Tilemap",
 "minLOD": 0,
 "maxLOD": 8,
 "datasetFormat": "Cache/LERC",
 "compressionType": "LERC",
 "serviceDataType": "esriImageServiceDataTypeElevation",
 "blockWidth": 512,
 "blockHeight": 512,
 "pixelSizeX": 0.007937515875031751,
 "pixelSizeY": 0.007937515875031751,
 "minPixelSize": 0.25400050800101603,
 "maxPixelSize": 130.0482600965202
}
