{
 "currentVersion": 11.3,
 "serviceDescription": "X_Bakgrundskarta/Extern_Bakgrundskarta_Ortofoto_1975",
 "name": "X_Bakgrundskarta/Extern_Bakgrundskarta_Ortofoto_1975",
 "description": "",
 "extent": {
  "xmin": 90000.02708799951,
  "ymin": 6270000.229228035,
  "xmax": 135000.0270879995,
  "ymax": 6335000.229228035,
  "spatialReference": {
   "wkid": 3010,
   "latestWkid": 3010
  }
 },
 "initialExtent": {
  "xmin": 90000.02708799951,
  "ymin": 6270000.229228035,
  "xmax": 135000.0270879995,
  "ymax": 6335000.229228035,
  "spatialReference": {
   "wkid": 3010,
   "latestWkid": 3010
  }
 },
 "fullExtent": {
  "xmin": 90000.02708799951,
  "ymin": 6270000.229228035,
  "xmax": 135000.0270879995,
  "ymax": 6335000.229228035,
  "spatialReference": {
   "wkid": 3010,
   "latestWkid": 3010
  }
 },
 "sortableFields": "",
 "bandCount": 1,
 "pixelType": "U8",
 "minValues": [],
 "maxValues": [],
 "meanValues": [],
 "stdvValues": [],
 "hasMultidimensions": false,
 "pixelSizeX": 0.5,
 "pixelSizeY": 0.5,
 "meanPixelSize": 0.5,
 "datasetFormat": "SDR",
 "uncompressedSize": 11700000000,
 "blockWidth": 128,
 "blockHeight": 128,
 "compressionType": "LZ77",
 "bandNames": [
  "Band_1"
 ],
 "allowCopy": true,
 "allowAnalysis": true,
 "itemAccess": false,
 "inspectionCapabilities": "",
 "minPixelSize": 0,
 "maxPixelSize": 0,
 "copyrightText": "",
 "serviceDataType": "esriImageServiceDataTypeGeneric",
 "serviceSourceType": "esriImageServiceSourceTypeDataset",
 "objectIdField": "",
 "fields": [],
 "capabilities": "Image,Metadata,Mensuration",
 "defaultMosaicMethod": "Center",
 "allowedMosaicMethods": "",
 "sortField": "",
 "sortValue": null,
 "sortAscending": true,
 "mosaicOperator": "First",
 "defaultCompressionQuality": 75,
 "defaultResamplingMethod": "Bilinear",
 "maxImageHeight": 4100,
 "maxImageWidth": 15000,
 "allowRasterFunction": true,
 "rasterFunctionInfos": [
  {
   "name": "None",
   "description": "",
   "help": ""
  }
 ],
 "rasterTypeInfos": [
  {
   "name": "Raster Dataset",
   "description": "Supports all ArcGIS Raster Datasets",
   "help": ""
  }
 ],
 "mensurationCapabilities": "Basic",
 "hasHistograms": false,
 "hasColormap": false,
 "hasRasterAttributeTable": false,
 "minScale": 0,
 "maxScale": 0,
 "exportTilesAllowed": false,
 "supportsStatistics": false,
 "supportsAdvancedQueries": false,
 "editFieldsInfo": null,
 "ownershipBasedAccessControlForRasters": null,
 "allowComputeTiePoints": false,
 "useStandardizedQueries": true,
 "advancedQueryCapabilities": {
  "useStandardizedQueries": true,
  "supportsStatistics": false,
  "supportsOrderBy": false,
  "supportsDistinct": false,
  "supportsPagination": false
 },
 "spatialReference": {
  "wkid": 3010,
  "latestWkid": 3010
 }
}
