View In:
ArcGIS JavaScript
ArcGIS Online Map Viewer
ArcGIS Earth
Service Description: NybroDTM
Name: NybroDTM
Description:
Single Fused Map Cache: true
Tile Info:
- Height: 512
- Width: 512
- DPI: 96
-
Levels of Detail: 15
- Format: LERC
- Compression Quality: 0.0
- LERC Error: 0.1
- Origin: X: 85819.54
Y: 6330533.44
- Spatial Reference: 3010
(3010)
VCSWkid(105702)
LatestVCSWkid(5613)
Extent:
XMin: 90241.43484378968
YMin: 6273963.970861062
XMax: 133982.10032512064
YMax: 6330033.821000762
Spatial Reference: 3010
(3010)
VCSWkid(105702)
LatestVCSWkid(5613)
Initial Extent:
XMin: 90241.43484378968
YMin: 6273963.970861062
XMax: 133982.10032512064
YMax: 6330033.821000762
Spatial Reference: 3010
(3010)
VCSWkid(105702)
LatestVCSWkid(5613)
Full Extent:
XMin: 90241.43484378968
YMin: 6273963.970861062
XMax: 133982.10032512064
YMax: 6330033.821000762
Spatial Reference: 3010
(3010)
VCSWkid(105702)
LatestVCSWkid(5613)
Pixel Size X: 0.007937515875031751
Pixel Size Y: 0.007937515875031751
Band Count: 1
Pixel Type: F32
RasterFunction Infos: {"rasterFunctionInfos": null}
Mensuration Capabilities:
Inspection Capabilities:
Has Histograms: false
Has Colormap: false
Has Multi Dimensions : false
Rendering Rule:
Min Scale: 491520
Max Scale: 960
Min LOD: 0
Max LOD: 8
Copyright Text: N/A
Service Data Type: esriImageServiceDataTypeElevation
Min Values: 38.16999816894531
Max Values: 238.39999389648438
Mean Values: 114.73413557012199
Standard Deviation Values: 39.437258336521865
Object ID Field: N/A
Fields:
None
Default Mosaic Method: N/A
Allowed Mosaic Methods: N/A
SortField: N/A
SortValue: N/A
Mosaic Operator: N/A
Default Compression Quality: null
Default Resampling Method: N/A
Max Record Count: null
Max Image Height: null
Max Image Width: null
Max Download Image Count: null
Max Mosaic Image Count: null
Allow Raster Function: null
Allow Copy: null
Allow Analysis: null
Allow Compute TiePoints: false
Supports Statistics: false
Supports Advanced Queries: false
Use StandardizedQueries: false
Raster Type Infos:
None
Has Raster Attribute Table: null
Edit Fields Info: N/A
Ownership Based AccessControl For Rasters: N/A
Child Resources:
Info